BEGIN:VCALENDAR
VERSION:2.0
PRODID:-//Tukios.com/
BEGIN:VEVENT
UID:474293be-f0eb-4f99-9285-c07da0219c62@www.casterlinefuneralhome.com
DTSTAMP:20260421T194551Z
DTSTART:20260423T170000Z
DTEND:20260423T180000Z
SUMMARY:Funeral Service
DESCRIPTION:
URL:https://www.casterlinefuneralhome.com/obituaries/mary-lou-karhu
LOCATION:Casterline Funeral Home 122 W Dunlap St  Northville MI 48167
GEO:42.4324307;-83.4841529
END:VEVENT
END:VCALENDAR