BEGIN:VCALENDAR
VERSION:2.0
PRODID:-//Tukios.com/
BEGIN:VEVENT
UID:3d41e06a-2781-4853-9110-db3d96c2a2f2@www.casterlinefuneralhome.com
DTSTAMP:20260421T194020Z
DTSTART:20260423T150000Z
DTEND:20260423T170000Z
SUMMARY:Visitation
DESCRIPTION:
URL:https://www.casterlinefuneralhome.com/obituaries/mary-lou-karhu
LOCATION:Casterline Funeral Home 122 W Dunlap St  Northville MI 48167
GEO:42.4324307;-83.4841529
END:VEVENT
END:VCALENDAR