BEGIN:VCALENDAR
VERSION:2.0
PRODID:-//Tukios.com/
BEGIN:VEVENT
UID:f89e92d9-b3ca-4a06-b77a-f199ba19b4a3@www.casterlinefuneralhome.com
DTSTAMP:20260421T025442Z
DTSTART:20260808T170000Z
DTEND:20260808T200000Z
SUMMARY:Celebration of Life
DESCRIPTION:
URL:https://www.casterlinefuneralhome.com/obituaries/gregory-todd
LOCATION:Sheridan Detroit Novi Hotel 21111 Haggerty Road  Novi MI 48375
GEO:42.4431297;-83.4356066
END:VEVENT
END:VCALENDAR